BEGIN:VCALENDAR
VERSION:2.0
PRODID:SchoolNow
CALSCALE:GREGORIAN
BEGIN:VEVENT
UID:4f739dfa-9b56-11ed-bafc-0e4090619047
DTSTAMP:20230123T194412Z
SUMMARY:Middle School Building Committee Meeting - In Person at Norwood Hig
 h School
URL;VALUE=URI:https://www.norwood.k12.ma.us/sc/calendar/3684841/middle-scho
 ol-building-committee-meeting-in-person-at-norwood-high-school
DTSTART:20230126T230000Z
DTEND:20230127T000000Z
END:VEVENT
END:VCALENDAR
