BEGIN:VCALENDAR
VERSION:2.0
PRODID:SchoolNow
CALSCALE:GREGORIAN
BEGIN:VEVENT
UID:91b9fd0a-9cf3-11ed-a7d5-0e039751ea21
DTSTAMP:20230125T210225Z
SUMMARY:School Committee - Budget Balancing Committee - Location: FinCom at
  Town Hall
URL;VALUE=URI:https://www.norwood.k12.ma.us/sc/calendar/3690598/school-comm
 ittee-budget-balancing-committee-location-fincom-at-town-hall
DTSTART:20230207T003000Z
DTEND:20230207T023000Z
END:VEVENT
END:VCALENDAR
