BEGIN:VCALENDAR
VERSION:2.0
PRODID:SchoolNow
CALSCALE:GREGORIAN
BEGIN:VEVENT
UID:1563bcaa-9d7a-11ed-9823-0efc90c2b23f
DTSTAMP:20230126T130518Z
SUMMARY:School Committee Executive Session with Unit A: Start Times MOU
URL;VALUE=URI:https://www.norwood.k12.ma.us/sc/calendar/3692387/school-comm
 ittee-executive-session-with-unit-a-start-times-mou
DTSTART:20230503T193000Z
DTEND:20230503T203000Z
END:VEVENT
END:VCALENDAR
