BEGIN:VCALENDAR
VERSION:2.0
PRODID:SchoolNow
CALSCALE:GREGORIAN
BEGIN:VEVENT
UID:c95f2266-a186-11ed-813d-023ff70e5351
DTSTAMP:20230131T164824Z
SUMMARY:School Committee - Executive Session with Teacher's Union
URL;VALUE=URI:https://www.norwood.k12.ma.us/sc/calendar/3704178/school-comm
 ittee-executive-session
DTSTART:20230202T223000Z
DTEND:20230202T230000Z
END:VEVENT
END:VCALENDAR
