BEGIN:VCALENDAR
VERSION:2.0
PRODID:SchoolNow
CALSCALE:GREGORIAN
BEGIN:VEVENT
UID:6078d48a-a187-11ed-aead-0a5e02ed84eb
DTSTAMP:20230202T131931Z
SUMMARY:DATE AND TIME UPDATED - School Committee Budget Sub Committee Meeti
 ng - REMOTE MEETING ONLINE
URL;VALUE=URI:https://www.norwood.k12.ma.us/sc/calendar/3704182/school-comm
 ittee-budget-sub-committee-meeting-remote-meeting-online
DTSTART:20230214T153000Z
DTEND:20230214T173000Z
END:VEVENT
END:VCALENDAR
