BEGIN:VCALENDAR
VERSION:2.0
PRODID:SchoolNow
CALSCALE:GREGORIAN
BEGIN:VEVENT
UID:22538a0e-a963-11ed-9b2f-0e7833e85061
DTSTAMP:20230210T165116Z
SUMMARY:School Committee Policy Sub Committee Meeting - REMOTE MEETING ONLI
 NE
URL;VALUE=URI:https://www.norwood.k12.ma.us/sc/calendar/3734083/school-comm
 ittee-policy-sub-committee-meeting-remote-meeting-online
DTSTART:20230309T180000Z
DTEND:20230309T185000Z
END:VEVENT
END:VCALENDAR
