BEGIN:VCALENDAR
VERSION:2.0
PRODID:SchoolNow
CALSCALE:GREGORIAN
BEGIN:VEVENT
UID:360cbfde-a963-11ed-bd7d-0e7833e85061
DTSTAMP:20230210T165149Z
SUMMARY:School Committee Policy Sub Committee Meeting - REMOTE MEETING ONLI
 NE
URL;VALUE=URI:https://www.norwood.k12.ma.us/sc/calendar/3734085/school-comm
 ittee-policy-sub-committee-meeting-remote-meeting-online
DTSTART:20230413T160000Z
DTEND:20230413T173000Z
END:VEVENT
END:VCALENDAR
