BEGIN:VCALENDAR
VERSION:2.0
PRODID:SchoolNow
CALSCALE:GREGORIAN
BEGIN:VEVENT
UID:4f4b47c2-a963-11ed-b2a3-0e7833e85061
DTSTAMP:20230210T165231Z
SUMMARY:School Committee Policy Sub Committee Meeting - REMOTE MEETING ONLI
 NE
URL;VALUE=URI:https://www.norwood.k12.ma.us/sc/calendar/3734087/school-comm
 ittee-policy-sub-committee-meeting-remote-meeting-online
DTSTART:20230511T160000Z
DTEND:20230511T173000Z
END:VEVENT
END:VCALENDAR
