BEGIN:VCALENDAR
VERSION:2.0
PRODID:SchoolNow
CALSCALE:GREGORIAN
BEGIN:VEVENT
UID:c84dc100-ad40-11ed-a010-0a02b3aefe3d
DTSTAMP:20230215T145526Z
SUMMARY:School Committee Budget Sub Committee - REMOTE MEETING ONLINE
URL;VALUE=URI:https://www.norwood.k12.ma.us/sc/calendar/3747235/school-comm
 ittee-budget-sub-committee-remote-meeting-online
DTSTART:20230228T170000Z
DTEND:20230228T180000Z
END:VEVENT
END:VCALENDAR
