BEGIN:VCALENDAR
VERSION:2.0
PRODID:SchoolNow
CALSCALE:GREGORIAN
BEGIN:VEVENT
UID:7d7640f2-aeef-11ed-a005-0a62a37275b1
DTSTAMP:20230320T164514Z
SUMMARY:School Committee Meeting with Student Advisory Board Meeting - at N
 HS
URL;VALUE=URI:https://www.norwood.k12.ma.us/sc/calendar/3753846/school-comm
 ittee-meeting-with-student-advisory-board-meeting
DTSTART:20230323T142200Z
DTEND:20230323T151900Z
END:VEVENT
END:VCALENDAR
