BEGIN:VCALENDAR
VERSION:2.0
PRODID:SchoolNow
CALSCALE:GREGORIAN
BEGIN:VEVENT
UID:f22a1c6e-af00-11ed-97c5-020944847a2b
DTSTAMP:20230217T202331Z
SUMMARY:School Committee Budget Sub Committee Meeting - REMOTE MEETING ONLI
 NE
URL;VALUE=URI:https://www.norwood.k12.ma.us/sc/calendar/3754527/school-comm
 ittee-budget-sub-committee-meeting-remote-meeting-online
DTSTART:20230324T180000Z
DTEND:20230324T193000Z
END:VEVENT
END:VCALENDAR
