BEGIN:VCALENDAR
VERSION:2.0
PRODID:SchoolNow
CALSCALE:GREGORIAN
BEGIN:VEVENT
UID:070e6e20-b391-11ed-b8ed-0eab2b45e5fd
DTSTAMP:20230223T154458Z
SUMMARY:Townwide Budget Balancing Committee at Town Hall
URL;VALUE=URI:https://www.norwood.k12.ma.us/sc/calendar/3771137/townwide-bu
 dget-balancing-committee-at-town-hall
DTSTART:20230309T190000Z
DTEND:20230309T200000Z
END:VEVENT
END:VCALENDAR
