BEGIN:VCALENDAR
VERSION:2.0
PRODID:SchoolNow
CALSCALE:GREGORIAN
BEGIN:VEVENT
UID:a57a06d8-c19b-11ed-96e4-0290cf18bedb
DTSTAMP:20230313T123615Z
SUMMARY:Townwide Budget Balancing Meeting - REMOTE MEETING ONLINE
URL;VALUE=URI:https://www.norwood.k12.ma.us/sc/calendar/3859687/townwide-bu
 dget-balancing-meeting-remote-meeting-online
DTSTART:20230313T140000Z
DTEND:20230313T160000Z
END:VEVENT
END:VCALENDAR
