BEGIN:VCALENDAR
VERSION:2.0
PRODID:SchoolNow
CALSCALE:GREGORIAN
BEGIN:VEVENT
UID:e45bc84a-c19c-11ed-ba33-0ed6de545897
DTSTAMP:20230313T124510Z
SUMMARY:School Committee Policy Subcommittee Meeting with PTO Advisory - Sa
 vage Center
URL;VALUE=URI:https://www.norwood.k12.ma.us/sc/calendar/3859691/school-comm
 ittee-policy-subcommittee-meeting-with-pto-advisory-savage-center
DTSTART:20230321T220000Z
DTEND:20230321T230000Z
END:VEVENT
END:VCALENDAR
