BEGIN:VCALENDAR
VERSION:2.0
PRODID:SchoolNow
CALSCALE:GREGORIAN
BEGIN:VEVENT
UID:bf96c250-c19f-11ed-82af-028cb33b3df7
DTSTAMP:20230313T130537Z
SUMMARY:School Committee Budget Sub Committee - REMOTE MEETING ONLINE
URL;VALUE=URI:https://www.norwood.k12.ma.us/sc/calendar/3859693/school-comm
 ittee-budget-sub-committee-remote-meeting-online
DTSTART:20230313T160000Z
DTEND:20230313T180000Z
END:VEVENT
END:VCALENDAR
