BEGIN:VCALENDAR
VERSION:2.0
PRODID:SchoolNow
CALSCALE:GREGORIAN
BEGIN:VEVENT
UID:d63ee6c0-c1ba-11ed-ab4c-0ae8427ee947
DTSTAMP:20230313T161932Z
SUMMARY:School Committee Budget Sub Committee Meeting - REMOTE MEETING ONLI
 NE
URL;VALUE=URI:https://www.norwood.k12.ma.us/sc/calendar/3860926/school-comm
 ittee-budget-sub-committee-meeting-remote-meeting-online
DTSTART:20230315T180000Z
DTEND:20230315T190000Z
END:VEVENT
END:VCALENDAR
