BEGIN:VCALENDAR
VERSION:2.0
PRODID:SchoolNow
CALSCALE:GREGORIAN
BEGIN:VEVENT
UID:45dd1bc6-c744-11ed-967a-0a2fe8d84095
DTSTAMP:20230320T172556Z
SUMMARY:School Committee Meeting - Executive Session
URL;VALUE=URI:https://www.norwood.k12.ma.us/sc/calendar/3897581/school-comm
 ittee-meeting-executive-session
DTSTART:20230322T230000Z
DTEND:20230322T231500Z
END:VEVENT
END:VCALENDAR
