BEGIN:VCALENDAR
VERSION:2.0
PRODID:SchoolNow
CALSCALE:GREGORIAN
BEGIN:VEVENT
UID:64e5e6f6-ca3c-11ed-8de9-0e50d441edb3
DTSTAMP:20230426T133334Z
SUMMARY:CANCELLED-School Committee Meeting with Student Advisory Board - NH
 S
URL;VALUE=URI:https://www.norwood.k12.ma.us/sc/calendar/3916464/school-comm
 ittee-meeting-with-student-advisory-board-nhs
DTSTART:20230427T142200Z
DTEND:20230427T151900Z
END:VEVENT
END:VCALENDAR
