BEGIN:VCALENDAR
VERSION:2.0
PRODID:SchoolNow
CALSCALE:GREGORIAN
BEGIN:VEVENT
UID:7f447238-ca3c-11ed-9eba-0e50d441edb3
DTSTAMP:20230324T130554Z
SUMMARY:School Committee Executive Session with Unit A: Grievance
URL;VALUE=URI:https://www.norwood.k12.ma.us/sc/calendar/3916466/school-comm
 ittee-executive-session-with-unit-a-grievance
DTSTART:20230330T193000Z
DTEND:20230330T203000Z
END:VEVENT
END:VCALENDAR
