BEGIN:VCALENDAR
VERSION:2.0
PRODID:SchoolNow
CALSCALE:GREGORIAN
BEGIN:VEVENT
UID:3aed7a3a-cc99-11ed-b468-02073cb725f5
DTSTAMP:20230327T121640Z
SUMMARY:School Committee Policy Sub Committee Meeting - REMOTE MEETING ONLI
 NE
URL;VALUE=URI:https://www.norwood.k12.ma.us/sc/calendar/3931510/school-comm
 ittee-policy-sub-committee-meeting-remote-meeting-online
DTSTART:20230405T220000Z
DTEND:20230405T230000Z
END:VEVENT
END:VCALENDAR
