BEGIN:VCALENDAR
VERSION:2.0
PRODID:SchoolNow
CALSCALE:GREGORIAN
BEGIN:VEVENT
UID:50ff849e-cc99-11ed-a7e6-02073cb725f5
DTSTAMP:20230515T141558Z
SUMMARY:School Committee Elementaty Sub Committee Meeting - REMOTE MEETING 
 ONLINE - UPDATED START TIME
URL;VALUE=URI:https://www.norwood.k12.ma.us/sc/calendar/3931512/school-comm
 ittee-elementaty-sub-committee-meeting-remote-meeting-online
DTSTART:20230516T200000Z
DTEND:20230516T210000Z
END:VEVENT
END:VCALENDAR
