BEGIN:VCALENDAR
VERSION:2.0
PRODID:SchoolNow
CALSCALE:GREGORIAN
BEGIN:VEVENT
UID:6f394864-cc99-11ed-b9bc-02073cb725f5
DTSTAMP:20230327T121808Z
SUMMARY:School Committee Budget Sub Committee Meeting - REMOTE MEETING ONLI
 NE
URL;VALUE=URI:https://www.norwood.k12.ma.us/sc/calendar/3931514/school-comm
 ittee-budget-sub-committee-meeting-remote-meeting-online
DTSTART:20230330T123000Z
DTEND:20230330T140000Z
END:VEVENT
END:VCALENDAR
