BEGIN:VCALENDAR
VERSION:2.0
PRODID:SchoolNow
CALSCALE:GREGORIAN
BEGIN:VEVENT
UID:9cbbee5c-d303-11ed-9a6c-02c0ee479d4b
DTSTAMP:20230404T161318Z
SUMMARY:School Committee Budget Sub Committee - REMOTE MEETING ONLINE
URL;VALUE=URI:https://www.norwood.k12.ma.us/sc/calendar/3982296/school-comm
 ittee-budget-sub-committee-remote-meeting-online
DTSTART:20230413T133000Z
DTEND:20230413T143000Z
END:VEVENT
END:VCALENDAR
