BEGIN:VCALENDAR
VERSION:2.0
PRODID:SchoolNow
CALSCALE:GREGORIAN
BEGIN:VEVENT
UID:8240817c-da0c-11ed-92ed-02e7d19daf6f
DTSTAMP:20230413T150437Z
SUMMARY:School Committee Budget Sub Committee Meeting - REMOTE MEETING ONLI
 NE
URL;VALUE=URI:https://www.norwood.k12.ma.us/sc/calendar/4042095/school-comm
 ittee-budget-sub-committee-meeting-remote-meeting-online
DTSTART:20230424T170000Z
DTEND:20230424T183000Z
END:VEVENT
END:VCALENDAR
