BEGIN:VCALENDAR
VERSION:2.0
PRODID:SchoolNow
CALSCALE:GREGORIAN
BEGIN:VEVENT
UID:a3dd56ca-da0c-11ed-aa5a-02e7d19daf6f
DTSTAMP:20230413T150534Z
SUMMARY:School Committee Sub Committee Meeting of the Whole - REMOTE MEETIN
 G ONLINE
URL;VALUE=URI:https://www.norwood.k12.ma.us/sc/calendar/4042097/school-comm
 ittee-sub-committee-meeting-of-the-whole-remote-meeting-online
DTSTART:20230425T223000Z
DTEND:20230425T233000Z
END:VEVENT
END:VCALENDAR
