BEGIN:VCALENDAR
VERSION:2.0
PRODID:SchoolNow
CALSCALE:GREGORIAN
BEGIN:VEVENT
UID:5d4ab35e-dad6-11ed-b434-0ec18f6fe165
DTSTAMP:20230414T150934Z
SUMMARY:School Committee Meeting - REMOTE MEETING ONLINE - See Schedule Pag
 e for Details
URL;VALUE=URI:https://www.norwood.k12.ma.us/sc/calendar/4049123/school-comm
 ittee-meeting-remote-meeting-online-see-schedule-page-for-details
DTSTART:20230718T230000Z
DTEND:20230719T000000Z
END:VEVENT
END:VCALENDAR
