BEGIN:VCALENDAR
VERSION:2.0
PRODID:SchoolNow
CALSCALE:GREGORIAN
BEGIN:VEVENT
UID:7a358b10-dad6-11ed-81b1-0ec18f6fe165
DTSTAMP:20230414T151022Z
SUMMARY:School Committee Meeting - REMOTE MEETING ONLINE - See Schedule Pag
 e for Details
URL;VALUE=URI:https://www.norwood.k12.ma.us/sc/calendar/4049125/school-comm
 ittee-meeting-remote-meeting-online-see-schedule-page-for-details
DTSTART:20230810T230000Z
DTEND:20230811T000000Z
END:VEVENT
END:VCALENDAR
