BEGIN:VCALENDAR
VERSION:2.0
PRODID:SchoolNow
CALSCALE:GREGORIAN
BEGIN:VEVENT
UID:1da1c5f6-e429-11ed-8e62-0e5dfb03a30f
DTSTAMP:20230426T115436Z
SUMMARY:School Committee Policy Sub Committee Meeting - REMOTE MEETING ONLI
 NE
URL;VALUE=URI:https://www.norwood.k12.ma.us/sc/calendar/4130143/school-comm
 ittee-policy-sub-committee-meeting-remote-meeting-online
DTSTART:20230427T160000Z
DTEND:20230427T173000Z
END:VEVENT
END:VCALENDAR
