BEGIN:VCALENDAR
VERSION:2.0
PRODID:SchoolNow
CALSCALE:GREGORIAN
BEGIN:VEVENT
UID:dcd2607e-e466-11ed-8d6d-0e5dfb03a30f
DTSTAMP:20230426T191636Z
SUMMARY:School Committee Meeting with Student Advisory Board - NHS
URL;VALUE=URI:https://www.norwood.k12.ma.us/sc/calendar/4132020/school-comm
 ittee-meeting-with-student-advisory-board-nhs
DTSTART:20230518T142200Z
DTEND:20230518T151900Z
END:VEVENT
END:VCALENDAR
