BEGIN:VCALENDAR
VERSION:2.0
PRODID:SchoolNow
CALSCALE:GREGORIAN
BEGIN:VEVENT
UID:a130cddc-ea8b-11ed-a80e-0287374fcefd
DTSTAMP:20230504T145454Z
SUMMARY:School Committee Budget Sub Committee Meeting - REMOTE MEETING ONLI
 NE
URL;VALUE=URI:https://www.norwood.k12.ma.us/sc/calendar/4180989/school-comm
 ittee-budget-sub-committee-meeting-remote-meeting-online
DTSTART:20230509T160000Z
DTEND:20230509T170000Z
END:VEVENT
END:VCALENDAR
