BEGIN:VCALENDAR
VERSION:2.0
PRODID:SchoolNow
CALSCALE:GREGORIAN
BEGIN:VEVENT
UID:d035256a-ef4a-11ed-8626-025f22894a11
DTSTAMP:20230510T155331Z
SUMMARY:School Comittee Budget Sub Committee Meeting - REMOTE MEETING ONLIN
 E
URL;VALUE=URI:https://www.norwood.k12.ma.us/sc/calendar/4218697/school-comi
 ttee-budget-sub-committee-meeting-remote-meeting-online
DTSTART:20230524T173000Z
DTEND:20230524T183000Z
END:VEVENT
END:VCALENDAR
