BEGIN:VCALENDAR
VERSION:2.0
PRODID:SchoolNow
CALSCALE:GREGORIAN
BEGIN:VEVENT
UID:4dc0946e-f4a6-11ed-bf51-0eef3b5b25d5
DTSTAMP:20230517T113102Z
SUMMARY:School Committee Policy Sub Committee Meeting - REMOTE MEETING ONLI
 NE
URL;VALUE=URI:https://www.norwood.k12.ma.us/sc/calendar/4256450/school-comm
 ittee-policy-sub-committee-meeting-remote-meeting-online
DTSTART:20230601T140000Z
DTEND:20230601T150000Z
END:VEVENT
END:VCALENDAR
