BEGIN:VCALENDAR
VERSION:2.0
PRODID:SchoolNow
CALSCALE:GREGORIAN
BEGIN:VEVENT
UID:6483950c-f4a6-11ed-a5fc-0eef3b5b25d5
DTSTAMP:20230517T113140Z
SUMMARY:School Committee Elementary Sub Committee Meeting - REMOTE MEETING 
 ONLINE
URL;VALUE=URI:https://www.norwood.k12.ma.us/sc/calendar/4256452/school-comm
 ittee-elementary-sub-committee-meeting-remote-meeting-online
DTSTART:20230615T143000Z
DTEND:20230615T153000Z
END:VEVENT
END:VCALENDAR
