BEGIN:VCALENDAR
VERSION:2.0
PRODID:SchoolNow
CALSCALE:GREGORIAN
BEGIN:VEVENT
UID:32863baa-fb21-11ed-8180-0a7d6ade6d9b
DTSTAMP:20230525T172551Z
SUMMARY:School Committee Budget Sub Committee Meeting - REMOTE MEETING ONLI
 NE
URL;VALUE=URI:https://www.norwood.k12.ma.us/sc/calendar/4300722/school-comm
 ittee-budget-sub-committee-meeting-remote-meeting-online
DTSTART:20230613T170000Z
DTEND:20230613T190000Z
END:VEVENT
END:VCALENDAR
