BEGIN:VCALENDAR
VERSION:2.0
PRODID:SchoolNow
CALSCALE:GREGORIAN
BEGIN:VEVENT
UID:45b1e53a-fb21-11ed-97e1-0a7d6ade6d9b
DTSTAMP:20230525T172624Z
SUMMARY:School Committee Budget Sub Committee Meeting - REMOTE MEETING ONLI
 NE
URL;VALUE=URI:https://www.norwood.k12.ma.us/sc/calendar/4300724/school-comm
 ittee-budget-sub-committee-meeting-remote-meeting-online
DTSTART:20230718T140000Z
DTEND:20230718T160000Z
END:VEVENT
END:VCALENDAR
