BEGIN:VCALENDAR
VERSION:2.0
PRODID:SchoolNow
CALSCALE:GREGORIAN
BEGIN:VEVENT
UID:17fd0dda-fb22-11ed-af12-0a7d6ade6d9b
DTSTAMP:20230525T173216Z
SUMMARY:School Committee Meeting with Student Advisory Board - REMOTE MEETI
 NG ONLINE
URL;VALUE=URI:https://www.norwood.k12.ma.us/sc/calendar/4300729/school-comm
 ittee-meeting-with-student-advisory-board-remote-meeting-online
DTSTART:20230615T170000Z
DTEND:20230615T180000Z
END:VEVENT
END:VCALENDAR
