BEGIN:VCALENDAR
VERSION:2.0
PRODID:SchoolNow
CALSCALE:GREGORIAN
BEGIN:VEVENT
UID:a894ef60-fbc8-11ed-86b3-0e2ca7c93f61
DTSTAMP:20230526T132525Z
SUMMARY:School Committee Meeting - Executive Session - REMOTE MEETING ONLIN
 E
URL;VALUE=URI:https://www.norwood.k12.ma.us/sc/calendar/4304757/school-comm
 ittee-meeting-executive-session
DTSTART:20230531T214500Z
DTEND:20230531T224500Z
END:VEVENT
END:VCALENDAR
