BEGIN:VCALENDAR
VERSION:2.0
PRODID:SchoolNow
CALSCALE:GREGORIAN
BEGIN:VEVENT
UID:d8e303e6-fbc8-11ed-9dc4-0e2ca7c93f61
DTSTAMP:20230526T132556Z
SUMMARY:School Committee Meeting - REMOTE MEETING ONLINE
URL;VALUE=URI:https://www.norwood.k12.ma.us/sc/calendar/4304759/school-comm
 ittee-meeting-remote-meeting-online
DTSTART:20230531T224500Z
DTEND:20230531T234500Z
END:VEVENT
END:VCALENDAR
