BEGIN:VCALENDAR
VERSION:2.0
PRODID:SchoolNow
CALSCALE:GREGORIAN
BEGIN:VEVENT
UID:3d8d31be-0096-11ee-a85d-0e0e4a68ad9f
DTSTAMP:20230601T160617Z
SUMMARY:School Committee Goals Sub Committee Meeting - REMOTE MEETING ONLIN
 E
URL;VALUE=URI:https://www.norwood.k12.ma.us/sc/calendar/4334650/school-comm
 ittee-goals-sub-committee-meeting-remote-meeting-online-clone
DTSTART:20230609T140000Z
DTEND:20230609T150000Z
END:VEVENT
END:VCALENDAR
