BEGIN:VCALENDAR
VERSION:2.0
PRODID:SchoolNow
CALSCALE:GREGORIAN
BEGIN:VEVENT
UID:735232e8-0160-11ee-98ec-0ec4c62916cf
DTSTAMP:20230602T161345Z
SUMMARY:School Committee Policy Sub Committee Meeting - REMOTE MEETING ONLI
 NE
URL;VALUE=URI:https://www.norwood.k12.ma.us/sc/calendar/4339790/school-comm
 ittee-policy-sub-committee-meeting-remote-meeting-online-clone
DTSTART:20230606T143000Z
DTEND:20230606T153000Z
END:VEVENT
END:VCALENDAR
