BEGIN:VCALENDAR
VERSION:2.0
PRODID:SchoolNow
CALSCALE:GREGORIAN
BEGIN:VEVENT
UID:3b58ea2e-046e-11ee-b2fc-0a708002cd73
DTSTAMP:20231206T130226Z
SUMMARY:School Committee Meeting - Hybrid Meeting/In Person at Savage Cente
 r - see Schedule page for details
URL;VALUE=URI:https://www.norwood.k12.ma.us/sc/calendar/4357405/school-comm
 ittee-meeting-hybrid-meeting-in-person-at-savage-center-see-schedule-page-
 for-details-clone
DTSTART:20231207T000000Z
DTEND:20231207T010000Z
END:VEVENT
END:VCALENDAR
