BEGIN:VCALENDAR
VERSION:2.0
PRODID:SchoolNow
CALSCALE:GREGORIAN
BEGIN:VEVENT
UID:4e98ef08-046e-11ee-9370-0a708002cd73
DTSTAMP:20231220T224643Z
SUMMARY:School Committee Meeting - REMOTE MEETING ONLINE - Broadcast Live O
 n Norwood Community Media
URL;VALUE=URI:https://www.norwood.k12.ma.us/sc/calendar/4357407/school-comm
 ittee-meeting-hybrid-meeting-in-person-at-savage-center-see-schedule-page-
 for-details-clone-clone
DTSTART:20231221T000000Z
DTEND:20231221T010000Z
END:VEVENT
END:VCALENDAR
