BEGIN:VCALENDAR
VERSION:2.0
PRODID:SchoolNow
CALSCALE:GREGORIAN
BEGIN:VEVENT
UID:dc8a474e-046e-11ee-9d47-0a708002cd73
DTSTAMP:20240322T144026Z
SUMMARY:School Committee Meeting - FY25 PUBLIC BUDGET HEARING DURING MEETIN
 G - Hybrid Meeting/In Person at Savage Center - see Schedule page for deta
 ils
URL;VALUE=URI:https://www.norwood.k12.ma.us/sc/calendar/4357421/school-comm
 ittee-meeting-hybrid-meeting-in-person-at-savage-center-see-schedule-page-
 for-details-clone-clone-clone-clone-clone-clone-clone-clone-clone
DTSTART:20240327T230000Z
DTEND:20240328T000000Z
END:VEVENT
END:VCALENDAR
