BEGIN:VCALENDAR
VERSION:2.0
PRODID:SchoolNow
CALSCALE:GREGORIAN
BEGIN:VEVENT
UID:fb31edc8-046e-11ee-aa36-0a708002cd73
DTSTAMP:20230606T133520Z
SUMMARY:School Committee Meeting - Hybrid Meeting/In Person at Savage Cente
 r - see Schedule page for details
URL;VALUE=URI:https://www.norwood.k12.ma.us/sc/calendar/4357423/school-comm
 ittee-meeting-hybrid-meeting-in-person-at-savage-center-see-schedule-page-
 for-details-clone-clone-clone-clone-clone-clone-clone-clone-clone
DTSTART:20240410T230000Z
DTEND:20240411T000000Z
END:VEVENT
END:VCALENDAR
