BEGIN:VCALENDAR
VERSION:2.0
PRODID:SchoolNow
CALSCALE:GREGORIAN
BEGIN:VEVENT
UID:28bed620-046f-11ee-82c9-0a708002cd73
DTSTAMP:20230606T133636Z
SUMMARY:School Committee Meeting - Hybrid Meeting/In Person at Savage Cente
 r - see Schedule page for details
URL;VALUE=URI:https://www.norwood.k12.ma.us/sc/calendar/4357431/school-comm
 ittee-meeting-hybrid-meeting-in-person-at-savage-center-see-schedule-page-
 for-details-clone-clone-clone-clone-clone-clone-clone-clone-clone-clone-cl
 one-clone-clone
DTSTART:20240612T230000Z
DTEND:20240613T000000Z
END:VEVENT
END:VCALENDAR
