BEGIN:VCALENDAR
VERSION:2.0
PRODID:SchoolNow
CALSCALE:GREGORIAN
BEGIN:VEVENT
UID:eb2a7622-06e7-11ee-8673-0e1441662967
DTSTAMP:20230609T170604Z
SUMMARY:School Committee Policy Sub Committee Meeting - REMOTE MEETING ONLI
 NE
URL;VALUE=URI:https://www.norwood.k12.ma.us/sc/calendar/4375955/school-comm
 ittee-policy-sub-committee-meeting-remote-meeting-online
DTSTART:20230613T163000Z
DTEND:20230613T173000Z
END:VEVENT
END:VCALENDAR
