BEGIN:VCALENDAR
VERSION:2.0
PRODID:SchoolNow
CALSCALE:GREGORIAN
BEGIN:VEVENT
UID:705f2dac-0b6f-11ee-a776-0243d8b697e3
DTSTAMP:20230615T112614Z
SUMMARY:School Committee Executive Session - REMOTE
URL;VALUE=URI:https://www.norwood.k12.ma.us/sc/calendar/4391424/school-comm
 ittee-executive-session-remote
DTSTART:20230620T211500Z
DTEND:20230620T221500Z
END:VEVENT
END:VCALENDAR
