BEGIN:VCALENDAR
VERSION:2.0
PRODID:SchoolNow
CALSCALE:GREGORIAN
BEGIN:VEVENT
UID:95c5d776-15ab-11ee-a219-0e399338071b
DTSTAMP:20230628T120159Z
SUMMARY:School Committee Elementary Sub Committee - REMOTE MEETING ONLINE
URL;VALUE=URI:https://www.norwood.k12.ma.us/sc/calendar/4447291/school-comm
 ittee-elementary-sub-committee-remote-meeting-online
DTSTART:20230815T143000Z
DTEND:20230815T153000Z
END:VEVENT
END:VCALENDAR
