BEGIN:VCALENDAR
VERSION:2.0
PRODID:SchoolNow
CALSCALE:GREGORIAN
BEGIN:VEVENT
UID:11e9f15e-1758-11ee-a7e6-0a040d711ca5
DTSTAMP:20230630T150912Z
SUMMARY:School Committee Policy Sub Committee Meeting - REMOTE MEETING ONLI
 NE
URL;VALUE=URI:https://www.norwood.k12.ma.us/sc/calendar/4456851/school-comm
 ittee-budget-sub-committee-meeting-remote-meeting-online-clone
DTSTART:20230717T140000Z
DTEND:20230717T160000Z
END:VEVENT
END:VCALENDAR
