BEGIN:VCALENDAR
VERSION:2.0
PRODID:SchoolNow
CALSCALE:GREGORIAN
BEGIN:VEVENT
UID:88003aa4-360e-11ee-9430-022d37e437c1
DTSTAMP:20230808T171053Z
SUMMARY:School Committee Executive Session - REMOTE
URL;VALUE=URI:https://www.norwood.k12.ma.us/sc/calendar/4557845/school-comm
 ittee-executive-session-remote
DTSTART:20230811T173000Z
DTEND:20230811T183000Z
END:VEVENT
END:VCALENDAR
